BEGIN:VCALENDAR
VERSION:2.0
PRODID:-//ERT//LNF26//DE
VERSION:2.0
BEGIN:VEVENT
UID:station_7271_20260424T194500Z
DTSTAMP:20260420T003100Z
URL:https://ert.langenachtderforschung.at/station/7271
DTSTART:20260424T194500Z
DTEND:20260424T204500Z
SUMMARY:[LNF26] Was haben Iron Maiden mit Österreich-Ungarn und dem Fall der Berliner Mauer zu tun? (21:45)
DESCRIPTION:Heavy Metal als Subkultur mit starken transnationalen Verflechtungen steht im Fokus meiner Forschung. Ich ergründe, wie Metal „Ost“ u. „West“ (Österreich, Ungarn, Jugoslawien, Tschechoslowakei) verband, den Eisernen Vorhang durchdrang und Lebenswelten um 1989/90 populärmusikalisch prägte. Wir werden uns dem Thema in anschaulicher und unterhaltsamer Weise nähern – bei einer Tasse Heavy Metal-Tee. (Peter Pichler)
LOCATION:Leonhardstraße 19 Bühne, 8010 Graz
GEO:47.07245350;15.45048685
END:VEVENT
END:VCALENDAR