BEGIN:VCALENDAR
VERSION:2.0
PRODID:-//ERT//LNF26//DE
VERSION:2.0
BEGIN:VEVENT
UID:station_7272_20260324T150000Z
DTSTAMP:20260421T084200Z
URL:https://ert.langenachtderforschung.at/station/7272
DTSTART:20260324T150000Z
DTEND:20260424T183000Z
SUMMARY:[LNF26] Wie wird aus Wasser Wasserstoff?
DESCRIPTION:Hier wird gezeigt, wie Wasser zu grünem Wasserstoff wird.
LOCATION:Andreas Hofer-Str. 7, 6330 Kufstein
GEO:47.58336600;12.17310637
END:VEVENT
END:VCALENDAR