BEGIN:VCALENDAR
VERSION:2.0
PRODID:-//ERT//LNF26//DE
VERSION:2.0
BEGIN:VEVENT
UID:station_7274_20260424T163000Z
DTSTAMP:20260420T003200Z
URL:https://ert.langenachtderforschung.at/station/7274
DTSTART:20260424T163000Z
DTEND:20260424T173000Z
SUMMARY:[LNF26] Taub. Genial. Unmusikalisch? Was Beethoven mit Selbstkonzept zu tun hat. (18:30)
DESCRIPTION:Im Vortrag wird gezeigt, wie Jugendliche mit Hörbeeinträchtigung Musik erleben und sich selbst in Bezug auf Musik einschätzen. Gemeinsam mit dem Publikum wird erkundet, welche Erfahrungen, Bedeutungen und Dimensionen in musikalischen Selbstbewertungen jenseits des reinen Hörens sichtbar werden und wieso diese musikalische Selbstkonzepte in die Gestaltung von Musikunterricht einfließen sollte. Vortrag: Laura Trolp
LOCATION:Leonhardstraße 19 Bühne, 8010 Graz
GEO:47.07245350;15.45048685
END:VEVENT
END:VCALENDAR