BEGIN:VCALENDAR
VERSION:2.0
PRODID:-//ERT//LNF26//DE
VERSION:2.0
BEGIN:VEVENT
UID:station_7275_20260324T160000Z
DTSTAMP:20260421T021400Z
URL:https://ert.langenachtderforschung.at/station/7275
DTSTART:20260324T160000Z
DTEND:20260424T200000Z
SUMMARY:[LNF26] Indoor Farm Lab – Messen, Staunen, Verstehen
DESCRIPTION:Spielerisch verstehen, wie Technik den Pflanzenanbau in Innenräumen unterstützt – vom Beobachten und Messen bis hin zum Ausprobieren einfacher Steuerungsideen.
LOCATION:Campus-Platz 1, 3100 St. Pölten
GEO:48.21313058;15.63179719
END:VEVENT
END:VCALENDAR