BEGIN:VCALENDAR
VERSION:2.0
PRODID:-//ERT//LNF26//DE
VERSION:2.0
BEGIN:VEVENT
UID:station_7278_20260424T181500Z
DTSTAMP:20260420T003700Z
URL:https://ert.langenachtderforschung.at/station/7278
DTSTART:20260424T181500Z
DTEND:20260424T191500Z
SUMMARY:[LNF26] Warum sollte man vor allem als Jazzfan Peter Alexander hören? Oder: Twenty Feet from Stardom - Die ORF Big Band als Konzert- und Tourneeorchester von Peter Alexander (20:15)
DESCRIPTION:Der ORF leistete sich von 1971-1981 eine eigene Big Band, bestehend aus den besten hiesigen Jazz- und Popmusikern, ergänzt durch internationale Jazzstars und erlaubte ihr 1975, anstelle des klassischen Diensts für Radio u. TV, nebenberuflich Peter Alexander auf seiner bis dahin größten Tournee zu begleiten. Welche Schlüsse können daraus für eine Jazzgeschichte in Österreich gezogen werden? Vortrag: Marcus Weberhofer
LOCATION:Leonhardstraße 19 Bühne, 8010 Graz
GEO:47.07245350;15.45048685
END:VEVENT
END:VCALENDAR