BEGIN:VCALENDAR
VERSION:2.0
PRODID:-//ERT//LNF26//DE
VERSION:2.0
BEGIN:VEVENT
UID:station_7281_20260424T170000Z
DTSTAMP:20260420T003000Z
URL:https://ert.langenachtderforschung.at/station/7281
DTSTART:20260424T170000Z
DTEND:20260424T180000Z
SUMMARY:[LNF26] Kann Musiktherapie Menschen mit chronischen Schmerzen helfen? (19:00)
DESCRIPTION:In dieser Studie prüfen wir, ob rezeptive Musiktherapie mit Monochord und Stimme in Kombination mit systemischer Gruppentherapie die Schmerzbewältigung bei Patient*innen mit chronischen Schmerzen verbessert. Über 10 Sitzungen erfassen standardisierte Fragebögen vor und nach jeder Sitzung Veränderungen von Schmerzerleben, Stress, Achtsamkeit und Wohlbefinden. Vortrag: Anja Schäfer
LOCATION:Leonhardstraße 19 Bühne, 8010 Graz
GEO:47.07245350;15.45048685
END:VEVENT
END:VCALENDAR