BEGIN:VCALENDAR
VERSION:2.0
PRODID:-//ERT//LNF26//DE
VERSION:2.0
BEGIN:VEVENT
UID:station_7287_20260424T191500Z
DTSTAMP:20260420T003000Z
URL:https://ert.langenachtderforschung.at/station/7287
DTSTART:20260424T191500Z
DTEND:20260424T201500Z
SUMMARY:[LNF26] Ist Musik Teil politischer Intervention und sozialer Veränderung? (21:15)
DESCRIPTION:Ich beschäftige mich mit Musik als Teil politischer Auseinandersetzungen und der Frage, ob mit Musik langfristig die Gesellschaft verändert werden kann. Ins Zentrum stelle ich den Einfluss von Musik auf Menschen und Gruppen, die sich heutzutage für eine diverse und demokratische Gesellschaft einsetzen. Welche Musik kommt in ihren Aktivitäten vor und was macht Musik dabei mit Menschen?  Vortrag: Tessa Balser-Schuhmann
LOCATION:Leonhardstraße 19 Bühne, 8010 Graz
GEO:47.07245350;15.45048685
END:VEVENT
END:VCALENDAR