BEGIN:VCALENDAR
VERSION:2.0
PRODID:-//ERT//LNF26//DE
VERSION:2.0
BEGIN:VEVENT
UID:station_7295_20260424T184500Z
DTSTAMP:20260420T003000Z
URL:https://ert.langenachtderforschung.at/station/7295
DTSTART:20260424T184500Z
DTEND:20260424T194500Z
SUMMARY:[LNF26] ‚It’s not a Woman – It’s a Boy’s Voice!‘ – oder: Lassen sich Geschlecht und Alter eigentlich hören? (20:45)
DESCRIPTION:Wie nehmen wir Stimmen wahr – und wie ordnen wir ihnen ein Geschlecht oder ein bestimmtes Alter zu? Ist das überall gleich, oder gibt es kulturelle Prägungen? In dieser interaktiven Präsentation hören wir Beispiele, testen unsere Wahrnehmung und reflektieren kulturelle Prägungen, Stereotype sowie ethnomusikologische Perspektiven auf Stimme, Identität und Hören. (Vortrag: Juan Bermúdez)
LOCATION:Leonhardstraße 19 Bühne, 8010 Graz
GEO:47.07245350;15.45048685
END:VEVENT
END:VCALENDAR