BEGIN:VCALENDAR
VERSION:2.0
PRODID:-//ERT//LNF26//DE
VERSION:2.0
BEGIN:VEVENT
UID:station_7299_20260424T173000Z
DTSTAMP:20260420T020600Z
URL:https://ert.langenachtderforschung.at/station/7299
DTSTART:20260424T173000Z
DTEND:20260424T183000Z
SUMMARY:[LNF26] Kann Musik Autismus hörbar machen? (19:30)
DESCRIPTION:Im Projekt „MUSAD-K“ wird ein musikbasiertes Beobachtungsinstrument zur Autismusdiagnostik bei Kindern entwickelt. Ein validiertes Verfahren für Erwachsene (MUSAD) wird adaptiert und weiterentwickelt. Ziel: soziale Interaktion, Kommunikation und sensorische Verarbeitung über musikalische Interventions- und Beobachtungssituationen differenziert zu erfassen. Vortrag: Birgit Geher
LOCATION:Leonhardstraße 19 Bühne, 8010 Graz
GEO:47.07245350;15.45048685
END:VEVENT
END:VCALENDAR