BEGIN:VCALENDAR
VERSION:2.0
PRODID:-//ERT//LNF26//DE
VERSION:2.0
BEGIN:VEVENT
UID:station_73_20260324T160000Z
DTSTAMP:20260421T175700Z
URL:https://ert.langenachtderforschung.at/station/73
DTSTART:20260324T160000Z
DTEND:20260424T210000Z
SUMMARY:[LNF26] Was verbirgt sich hinter der großen Glasfassade?
DESCRIPTION:Begeben Sie sich auf eine kurzweilige Reise durch die mehr als 45-jährige Erfolgsgeschichte des zweifachen Gewinners des Staatspreises Innovation. Erfahren Sie von den Expert:innen mehr über die EVG Präzisionsmaschinen und Technologien und wie diese am Hauptsitz in St. Florian am Inn entwickelt und gefertigt werden.
LOCATION:DI Erich Thallner Straße 1, 4782 St. Florian am Inn
GEO:48.43049621;13.44500721
END:VEVENT
END:VCALENDAR