BEGIN:VCALENDAR
VERSION:2.0
PRODID:-//ERT//LNF26//DE
VERSION:2.0
BEGIN:VEVENT
UID:station_730_20260324T160000Z
DTSTAMP:20260422T221300Z
URL:https://ert.langenachtderforschung.at/station/730
DTSTART:20260324T160000Z
DTEND:20260424T210000Z
SUMMARY:[LNF26] ReSTex Textilrecycling - kann man alte Textilien im Kreislauf halten?
DESCRIPTION:Alle reden über Fast-Fashion. Die bringt neue Shirts, Pants und Sweater im Überfluss. Die müssen in Zukunft recycelt werden. \nAber woraus bestehen eigentlich unsere Textilien? "Begreife" den Unterschied zwischen den Stoffen und schau dir die Strukturen unter dem Mikroskop an. Und wie funktionieren Textilrecycling? \nReduce - Reuse - Recycle: kann ich da auch etwas beitragen?
LOCATION:Konrad Lorenz Straße 10, 3430 Tulln
GEO:48.32043157;16.06446745
END:VEVENT
END:VCALENDAR