BEGIN:VCALENDAR
VERSION:2.0
PRODID:-//ERT//LNF26//DE
VERSION:2.0
BEGIN:VEVENT
UID:station_7303_20260424T154500Z
DTSTAMP:20260420T003200Z
URL:https://ert.langenachtderforschung.at/station/7303
DTSTART:20260424T154500Z
DTEND:20260424T164500Z
SUMMARY:[LNF26] Le Jazziste. Discovering the Italian Jazzwomen. (17:45)
DESCRIPTION:Vortrag: Maria Blengino
LOCATION:Leonhardstraße 19 Bühne, 8010 Graz
GEO:47.07245350;15.45048685
END:VEVENT
END:VCALENDAR