BEGIN:VCALENDAR
VERSION:2.0
PRODID:-//ERT//LNF26//DE
VERSION:2.0
BEGIN:VEVENT
UID:station_7336_20260324T160000Z
DTSTAMP:20260422T225200Z
URL:https://ert.langenachtderforschung.at/station/7336
DTSTART:20260324T160000Z
DTEND:20260424T173000Z
SUMMARY:[LNF26] Wie treffen Menschen finanzielle Entscheidungen?
DESCRIPTION:Lernen Sie die Forschungsbereiche des Kompetenzzentrums für Finanzbildung an der WU kennen und erhalten Einblick in aktuelle Forschungsergebnisse. Außerdem stellen wir spannende Lehrprojekte vor und laden zu einem Schätzspiel rund um das Thema Finanzbildung ein.
LOCATION:Welthandelsplatz 1 TC, 1020 Wien
GEO:48.21250068;16.41016927
END:VEVENT
END:VCALENDAR