BEGIN:VCALENDAR
VERSION:2.0
PRODID:-//ERT//LNF26//DE
VERSION:2.0
BEGIN:VEVENT
UID:station_7339_20260324T160000Z
DTSTAMP:20260424T134700Z
URL:https://ert.langenachtderforschung.at/station/7339
DTSTART:20260324T160000Z
DTEND:20260424T210000Z
SUMMARY:[LNF26] Magnetische Superkräfte: Wie KI mit deiner Hilfe die stärksten Magnete entdeckt
DESCRIPTION:Besucher_innen können mit Papier und Buntstiften neue Magnete entwerfen. Mit Hilfe von künstlicher Intelligenz werden die Zeichnungen in wenigen Sekunden ausgewertet. In spielerischer Form lernt man mehr über den Einsatz und die Kraft von Magneten. Gemeinsam finden wir den stärksten Magneten.
LOCATION:Dr. Karl-Dorrek-Straße 30, 3500 Krems
GEO:48.40830956;15.58515436
END:VEVENT
END:VCALENDAR