BEGIN:VCALENDAR
VERSION:2.0
PRODID:-//ERT//LNF26//DE
VERSION:2.0
BEGIN:VEVENT
UID:station_734_20260324T160000Z
DTSTAMP:20260421T135100Z
URL:https://ert.langenachtderforschung.at/station/734
DTSTART:20260324T160000Z
DTEND:20260424T210000Z
SUMMARY:[LNF26] Was hat Forschung mit nachwachsenden Rohstoffen wie Stärke und Zucker zu tun?
DESCRIPTION:Erfahren Sie mehr über die Forschungsarbeit des AGRANA-Konzerns bei der Station des AGRANA Research & Innovation Centers. Hinter den bekannten Produkten von AGRANA, wie zum Beispiel Fruchtzubereitungen, Stärke und Zucker verbergen sich oft interessante Forschungsprojekte.
LOCATION:Konrad Lorenz Straße 24, 3430 Tulln
GEO:48.32077312;16.06863138
END:VEVENT
END:VCALENDAR