BEGIN:VCALENDAR
VERSION:2.0
PRODID:-//ERT//LNF26//DE
VERSION:2.0
BEGIN:VEVENT
UID:station_7340_20260324T160000Z
DTSTAMP:20260424T134400Z
URL:https://ert.langenachtderforschung.at/station/7340
DTSTART:20260324T160000Z
DTEND:20260424T210000Z
SUMMARY:[LNF26] Moderne Sicherheitssysteme für Fahrzeuge
DESCRIPTION:Bei Landwirtschaftlichen- und Sonderfahrzeugen werden besonders intensive Lichtsysteme zur Arbeitsfeldbeleuchtung eingesetzt. Die modernen Lichtsysteme sind mit Sensorik ausgestattet, die gefährliche Situationen für die Personen in der Umgebung erkennen und darauf entsprechend reagieren. Die Lichtsysteme sind in der Lage, Gefahrenbereiche zu markieren sowie Personen im Nahfeld durch angepasste Beleuchtung zu schützen
LOCATION:Dr. Karl-Dorrek-Straße 30, 3500 Krems
GEO:48.40830956;15.58515436
END:VEVENT
END:VCALENDAR