BEGIN:VCALENDAR
VERSION:2.0
PRODID:-//ERT//LNF26//DE
VERSION:2.0
BEGIN:VEVENT
UID:station_7341_20260324T160000Z
DTSTAMP:20260424T134400Z
URL:https://ert.langenachtderforschung.at/station/7341
DTSTART:20260324T160000Z
DTEND:20260424T210000Z
SUMMARY:[LNF26] Smarte Sensoren für die Wasseranalytik
DESCRIPTION:Wasser ist das wichtigste Lebensmittel, daher gilt es diese Ressource besonders zu schützen. Smarte Sensoren erfassen nicht nur die Messgröße, sondern vereinigen auch die komplette Signalverarbeitung in einem Gehäuse. Zusätzlich stellen sie eine Schnittstelle zur Kommunikation (WIFI) mit dem übergeordneten System bereit. Dies ermöglicht dem Anwender einfaches Handling sowie das Monitoring des Wassers in Echtzeit.
LOCATION:Dr. Karl-Dorrek-Straße 30, 3500 Krems
GEO:48.40830956;15.58515436
END:VEVENT
END:VCALENDAR