BEGIN:VCALENDAR
VERSION:2.0
PRODID:-//ERT//LNF26//DE
VERSION:2.0
BEGIN:VEVENT
UID:station_7344_20260324T200000Z
DTSTAMP:20260421T002500Z
URL:https://ert.langenachtderforschung.at/station/7344
DTSTART:20260324T200000Z
DTEND:20260424T200000Z
SUMMARY:[LNF26] Science Music Chill Out
DESCRIPTION:Tauchen Sie ein in eine entspannte Mischung aus Wissenschaft und Sound: Beim Science Music Chill Out erwartet Sie ein gemütliches Lounge‑Setting mit Bar, das perfekt zum Abschalten und Genießen einlädt. In Zusammenarbeit mit dem Campus & City Radio St. Pölten sorgen wir mit handverlesenen Tracks rund um Wissenschaft, Forschung und futurische Klangwelten für die passende Atmosphäre.
LOCATION:Campus-Platz 1, 3100 St. Pölten
GEO:48.21313058;15.63179719
END:VEVENT
END:VCALENDAR