BEGIN:VCALENDAR
VERSION:2.0
PRODID:-//ERT//LNF26//DE
VERSION:2.0
BEGIN:VEVENT
UID:station_7349_20260324T160000Z
DTSTAMP:20260420T003100Z
URL:https://ert.langenachtderforschung.at/station/7349
DTSTART:20260324T160000Z
DTEND:20260424T210000Z
SUMMARY:[LNF26] Welche Klangsprachen sprechen unsere Lebenswelten? (Ab 17:00)
DESCRIPTION:Wir beschäftigen uns mit der Frage, wie die Lebenswelten von Kindern und Jugendlichen heute klingen – und ob wir diese Klänge in den Kompositionen junger Komponierender wiederfinden. Dafür suchen wir den „merk-würdigsten“ Klang des Tages und Momente der Stille, um zu erforschen, mit welchen Worten Menschen Klänge beschreiben, denn nur wer eine Klangsprache teilt, kann über Musik sprechen. Helmut Schmidinger
LOCATION:Leonhardstraße 19 Probebühne, 8010 Graz
GEO:47.07245350;15.45048685
END:VEVENT
END:VCALENDAR