BEGIN:VCALENDAR
VERSION:2.0
PRODID:-//ERT//LNF26//DE
VERSION:2.0
BEGIN:VEVENT
UID:station_7350_20260324T160000Z
DTSTAMP:20260420T003100Z
URL:https://ert.langenachtderforschung.at/station/7350
DTSTART:20260324T160000Z
DTEND:20260424T210000Z
SUMMARY:[LNF26] MAPPING MOBILE MUSICIANS: Grazer Musikgeschichte digital erforschen mit Nicole K. Strohmann und Team (Ab 17:00)
DESCRIPTION:Tauchen Sie ein in die faszinierende Welt des Musiktheaters im Graz der Nachkriegszeit: Die Station Mapping Mobile Musicians zeigt am Beispiel der Sängerin Ira Malaniuk sowie weiterer internationaler Opernstars, Komponist*innen und Regisseur*innen, wie Mobilität Karrieren prägte und Graz mit den großen Bühnen der Welt vernetzte. Entdecken Sie Musikgeschichte digital, international und überraschend beweglich.
LOCATION:Leonhardstraße 19 Foyer, 8010 Graz
GEO:47.07245350;15.45048685
END:VEVENT
END:VCALENDAR