BEGIN:VCALENDAR
VERSION:2.0
PRODID:-//ERT//LNF26//DE
VERSION:2.0
BEGIN:VEVENT
UID:station_7353_20260424T183000Z
DTSTAMP:20260420T003100Z
URL:https://ert.langenachtderforschung.at/station/7353
DTSTART:20260424T183000Z
DTEND:20260424T193000Z
SUMMARY:[LNF26] Soundwalk: Wie klingt die KUG und ihre Umgebung? Spaziergänge zum Hören (20:30)
DESCRIPTION:Auf unterschiedlichen Routen wird der Klang der Kunstuniversität und ihrer Umgebung mit den Ohren erforscht. Die geführten Spaziergänge laden dazu ein, Klänge von Gebäuden, Wegen und Plätzen zu entdecken. Alltägliches Hören wird zum besonderen Zuhören und Lauschen. Dabei soll nicht gesprochen werden, sondern ein Austausch der Erlebnisse findet nach den gemeinsamen Hörspaziergängen statt.  (Mit Christa Brüstle)
LOCATION:Leonhardstraße 19 Foyer, 8010 Graz
GEO:47.07245350;15.45048685
END:VEVENT
END:VCALENDAR