BEGIN:VCALENDAR
VERSION:2.0
PRODID:-//ERT//LNF26//DE
VERSION:2.0
BEGIN:VEVENT
UID:station_7354_20260324T160000Z
DTSTAMP:20260420T003200Z
URL:https://ert.langenachtderforschung.at/station/7354
DTSTART:20260324T160000Z
DTEND:20260424T210000Z
SUMMARY:[LNF26] Musik trennen und remixen: Kann uns KI dabei helfen, Audio neu zu mischen? (Ab 17:00)
DESCRIPTION:In dieser Demo werden schlecht gemischte Songs mit zu lauten Einzelspuren mithilfe eines KI-basierten Modells zur musikalischen Quellentrennung in vier Einzelspuren (Gesang, Schlagzeug, Bass und weitere Instrumente) zerlegt. Im Anschluss können die Teilnehmenden die getrennten Spuren an einem Mischpult neu mischen, um den Mix zu korrigieren. (Mit Paul Bereuter, Alois Sontacchi)
LOCATION:Leonhardstraße 19 Foyer, 8010 Graz
GEO:47.07245350;15.45048685
END:VEVENT
END:VCALENDAR