BEGIN:VCALENDAR
VERSION:2.0
PRODID:-//ERT//LNF26//DE
VERSION:2.0
BEGIN:VEVENT
UID:station_7355_20260324T160000Z
DTSTAMP:20260420T002900Z
URL:https://ert.langenachtderforschung.at/station/7355
DTSTART:20260324T160000Z
DTEND:20260424T210000Z
SUMMARY:[LNF26] Wie klingt die Quetschn der Zukunft? (Ab 17:00)
DESCRIPTION:In dem FFG-Forschungsprojekt "Augmented Quetschn" wurde in Zusammenarbeit mit mehreren Firmen eine neue steirische Harmonika entwickelt, die zur Klangerzeugung nicht nur die üblichen Stimmzungen  verwendet, sondern auch Elektronik. Dadurch kann der Klang während des Spielens verändert werden. Überzeugen Sie sich selbst von den klanglichen Möglichkeiten unseres Prototyps! (Mit Matthias Frank, Thomas Musil)
LOCATION:Leonhardstraße 19 Foyer, 8010 Graz
GEO:47.07245350;15.45048685
END:VEVENT
END:VCALENDAR