BEGIN:VCALENDAR
VERSION:2.0
PRODID:-//ERT//LNF26//DE
VERSION:2.0
BEGIN:VEVENT
UID:station_7356_20260324T160000Z
DTSTAMP:20260420T003100Z
URL:https://ert.langenachtderforschung.at/station/7356
DTSTART:20260324T160000Z
DTEND:20260424T210000Z
SUMMARY:[LNF26] Wie löscht man Lärm mit Lärm? (Ab 17:00)
DESCRIPTION:Viele kennen aktive Geräuschunterdrückung (Active Noise Control, ANC) von Kopfhörern. Unerwünschter Lärm wird reduziert, indem ein passendes gegenphasiges Signal abgespielt wird; Schall und Antischall überlagern sich und heben sich idealerweise auf. Das funktioniert auch mit Lautsprechern im Raum und erzeugt so Zonen der Ruhe. (Christian Blöcher, Felix Holzmüller, Alois Sontacchi)
LOCATION:Leonhardstraße 19, 8010 Graz
GEO:47.07245350;15.45048680
END:VEVENT
END:VCALENDAR