BEGIN:VCALENDAR
VERSION:2.0
PRODID:-//ERT//LNF26//DE
VERSION:2.0
BEGIN:VEVENT
UID:station_7357_20260324T160000Z
DTSTAMP:20260420T003000Z
URL:https://ert.langenachtderforschung.at/station/7357
DTSTART:20260324T160000Z
DTEND:20260424T210000Z
SUMMARY:[LNF26] Wie klingt Spatial Audio? Räumliches Hören mit Kugelmikrofonarrays (Ab 17:00)
DESCRIPTION:Ein Kugelmikrofonarray erfasst Klang mit hoher räumlicher Auflösung. Die zugrundeliegende Technik, Ambisonics, erlaubt es, mit der Aufnahme zu interagieren, sodass es sich anfühlt, als säße man live im Konzert. (Thomas Röck, Franz Zotter, Matthias Frank)
LOCATION:Leonhardstraße 19, 8010 Graz
GEO:47.07245350;15.45048680
END:VEVENT
END:VCALENDAR