BEGIN:VCALENDAR
VERSION:2.0
PRODID:-//ERT//LNF26//DE
VERSION:2.0
BEGIN:VEVENT
UID:station_7358_20260424T180000Z
DTSTAMP:20260421T143600Z
URL:https://ert.langenachtderforschung.at/station/7358
DTSTART:20260424T180000Z
DTEND:20260424T190000Z
SUMMARY:[LNF26] Vier spannende Themen für Euch - Lust auf einen Talk?
DESCRIPTION:A - 18:00 Uhr: (New) Tales from the Crypt - Gräber, Gerüchte und Gene - was steckt wirklich dahinter?\nB - 19:00 Uhr: Gehirn in Bewegung: Warum ist/macht Tanzen schlauer als Sudoku?\nC - 20:00 Uhr: Brain Age – wie alt sieht dein Gehirn aus?\nD - 21:00 Uhr: Wie messe ich mein biologisches Alter?
LOCATION:Erzabt-Klotz-Straße 1 Unipark, 5020 Salzburg
GEO:47.79478290;13.05415970
END:VEVENT
END:VCALENDAR