BEGIN:VCALENDAR
VERSION:2.0
PRODID:-//ERT//LNF26//DE
VERSION:2.0
BEGIN:VEVENT
UID:station_7360_20260324T160000Z
DTSTAMP:20260420T003200Z
URL:https://ert.langenachtderforschung.at/station/7360
DTSTART:20260324T160000Z
DTEND:20260424T210000Z
SUMMARY:[LNF26] Die Pannonische Forschungsstelle / Internationales Zentrum für Blasmusikforschung (Ab 17:00)
DESCRIPTION:Am Internationalen Zentrum für Blasmusikforschung wird in Oberschützen einzigartig geforscht, welche Entwicklungen es in der Blasmusik in klassischer und zeitgenössischer Musik gibt (von David Gasche)
LOCATION:Leonhardstraße 19 Foyer, 8010 Graz
GEO:47.07245350;15.45048685
END:VEVENT
END:VCALENDAR