BEGIN:VCALENDAR
VERSION:2.0
PRODID:-//ERT//LNF26//DE
VERSION:2.0
BEGIN:VEVENT
UID:station_737_20260324T160000Z
DTSTAMP:20260421T135000Z
URL:https://ert.langenachtderforschung.at/station/737
DTSTART:20260324T160000Z
DTEND:20260424T210000Z
SUMMARY:[LNF26] Wie entsteht ein Blatt Papier?
DESCRIPTION:Besucher:innen der Langen Nacht der Forschung können in einem Labor alle Schritte der Papierherstellung nachvollziehen und eigenhändig ein Blatt Papier herstellen.
LOCATION:Konrad Lorenz Straße 24, 3430 Tulln
GEO:48.32077312;16.06863138
END:VEVENT
END:VCALENDAR