BEGIN:VCALENDAR
VERSION:2.0
PRODID:-//ERT//LNF26//DE
VERSION:2.0
BEGIN:VEVENT
UID:station_7379_20260324T160000Z
DTSTAMP:20260420T003200Z
URL:https://ert.langenachtderforschung.at/station/7379
DTSTART:20260324T160000Z
DTEND:20260424T210000Z
SUMMARY:[LNF26] LIFE: Was können wir in unseren Gärten tun für mehr Biodiversität?
DESCRIPTION:Der Verlust der Artenvielfalt gilt als nächste große globale Krise. Biodiversitätsverlust und Klimawandel sind eng miteinander verknüpft und verstärken sich gegenseitig. Über einen interaktiven Touchscreen lernen Besucher*innen das BIODIVERCITI-Projekt von JOANNEUM RESEARCH kennen, entdecken Maßnahmen für private Gärten und können beim Biodiversitäts-Quiz viele großartige Preise gewinnen.
LOCATION:Steyrergasse 17 DIGITAL Institut für Digitale Technologien, 8010 Graz
GEO:47.06404490;15.45319840
END:VEVENT
END:VCALENDAR