BEGIN:VCALENDAR
VERSION:2.0
PRODID:-//ERT//LNF26//DE
VERSION:2.0
BEGIN:VEVENT
UID:station_7394_20260424T200000Z
DTSTAMP:20260420T003900Z
URL:https://ert.langenachtderforschung.at/station/7394
DTSTART:20260424T200000Z
DTEND:20260424T210000Z
SUMMARY:[LNF26] Einblicke in den OP: Bist du bereit, eine Herzoperation in 3D zu erleben?
DESCRIPTION:Erleben Sie eine Herzoperation in Echtzeit im großen Hörsaal der Anatomie. Bei einem "Live Case" blicken die Teilnehmer:innen den Chirurg:innen direkt über die Schulter. Die Übertragung erfolgt in beeindruckendem 3D. Durch Spezialbrillen erleben Sie die Operation mit Tiefenwahrnehmung, was lebensechte Einblicke vermittelt – fast wie im OP-Saal.
LOCATION:Auenbruggerplatz 25, 8036 Graz
GEO:47.08200982;15.46429619
END:VEVENT
END:VCALENDAR