BEGIN:VCALENDAR
VERSION:2.0
PRODID:-//ERT//LNF26//DE
VERSION:2.0
BEGIN:VEVENT
UID:station_7413_20260324T160000Z
DTSTAMP:20260420T071900Z
URL:https://ert.langenachtderforschung.at/station/7413
DTSTART:20260324T160000Z
DTEND:20260424T210000Z
SUMMARY:[LNF26] U01: Wie kommt Nachhaltigkeit in den Unterricht?
DESCRIPTION:Es wird heißer auf unserem Planeten und immer mehr Pflanzen und Tiere sind bedroht. An dieser Station \ntauchst du in die Themen Klima- und Biodiversitätskrise ein. Das Besondere dabei: Wir laden dich ein, \nmit künstlerischen Techniken neue Ideen und Visionen umzusetzen. Die Station der Projekte ÖKOLOG, \nCLARITY und IMST bietet viele spannende Spiele und Übungen für Besucher:innen jeden Alters.
LOCATION:Universitätsstraße 65-67, 9020 Klagenfurt
GEO:46.61631826;14.26516771
END:VEVENT
END:VCALENDAR