BEGIN:VCALENDAR
VERSION:2.0
PRODID:-//ERT//LNF26//DE
VERSION:2.0
BEGIN:VEVENT
UID:station_7414_20260324T160000Z
DTSTAMP:20260420T053800Z
URL:https://ert.langenachtderforschung.at/station/7414
DTSTART:20260324T160000Z
DTEND:20260424T210000Z
SUMMARY:[LNF26] E01: Entdecke die Welt der kleinen Forscher:innen!
DESCRIPTION:Tauche ein in unsere interaktive Forscher:innen-Geschichte! In sechs spannenden Koffern lernst du alles über Mülltrennung, Magnetismus, Schwimmen und Sinken, Farben, Stromkreise und Werkzeuge. Experimente, Rätsel und Mitmachen machen Forschen zum großen Abenteuer für Kinder bis 10 Jahre!
LOCATION:Lakeside B11, 9020 Klagenfurt
GEO:46.61423291;14.26646054
END:VEVENT
END:VCALENDAR