BEGIN:VCALENDAR
VERSION:2.0
PRODID:-//ERT//LNF26//DE
VERSION:2.0
BEGIN:VEVENT
UID:station_7415_20260324T160000Z
DTSTAMP:20260420T054300Z
URL:https://ert.langenachtderforschung.at/station/7415
DTSTART:20260324T160000Z
DTEND:20260424T210000Z
SUMMARY:[LNF26] U02: Wie kommen alle zu digitalen Kompetenzen?
DESCRIPTION:Digitale Kompetenzen sind ein Schlüssel zur Teilhabe – doch Menschen mit Lernschwierigkeiten droht Ausgrenzung. Das Projekt InDiCo schließt diese Lücke: Wir schaffen eine Grundlage zur Vermittlung digitaler \nGrundkompetenzen und machen digitale Fähigkeiten zugleich sichtbar – damit Inklusion und digitale Teilhabe gelingen. Teste an dieser Station selbst, wie es um deine digitalen Kompetenzen bestellt ist.
LOCATION:Universitätsstraße 65-67, 9020 Klagenfurt
GEO:46.61631826;14.26516771
END:VEVENT
END:VCALENDAR