BEGIN:VCALENDAR
VERSION:2.0
PRODID:-//ERT//LNF26//DE
VERSION:2.0
BEGIN:VEVENT
UID:station_7416_20260324T160000Z
DTSTAMP:20260420T072000Z
URL:https://ert.langenachtderforschung.at/station/7416
DTSTART:20260324T160000Z
DTEND:20260424T210000Z
SUMMARY:[LNF26] U03: !WAHRNUNG!
DESCRIPTION:Was du für wahr hältst, ist nicht immer sicher! Was kannst du wirklich wissen? Was ist echt – und was nur Schein? Begib dich auf eine interaktive Reise mit spannenden, philosophischen Rätseln, und komm dabei der Wahrheit auf die Spur… Diese Entdeckungsreise ist für Groß und Klein und alle kritischen Geister, die sich nicht mit vermeintlichen Gewissheiten zufriedengeben.
LOCATION:Universitätsstraße 65-67, 9020 Klagenfurt
GEO:46.61631826;14.26516771
END:VEVENT
END:VCALENDAR