BEGIN:VCALENDAR
VERSION:2.0
PRODID:-//ERT//LNF26//DE
VERSION:2.0
BEGIN:VEVENT
UID:station_7417_20260324T160000Z
DTSTAMP:20260420T054500Z
URL:https://ert.langenachtderforschung.at/station/7417
DTSTART:20260324T160000Z
DTEND:20260424T210000Z
SUMMARY:[LNF26] E02: BIKO mach MINT
DESCRIPTION:Bei BIKO mach MINT kannst du forschen, tüfteln und experimentieren! In coolen Räumen mit spannenden Materialien entdecken Kinder und Jugendliche Naturwissenschaft und Technik. Alleine, mit Freund:innen oder mit der Klasse lernst du Neues, stellst Fragen und findest eigene Lösungen. Komm vorbei und erlebe, wie viel Spaß Lernen machen kann! Hier wird Ausprobieren großgeschrieben und jede Idee zählt.
LOCATION:Lakeside B11, 9020 Klagenfurt
GEO:46.61423291;14.26646054
END:VEVENT
END:VCALENDAR