BEGIN:VCALENDAR
VERSION:2.0
PRODID:-//ERT//LNF26//DE
VERSION:2.0
BEGIN:VEVENT
UID:station_7418_20260324T160000Z
DTSTAMP:20260420T054300Z
URL:https://ert.langenachtderforschung.at/station/7418
DTSTART:20260324T160000Z
DTEND:20260424T210000Z
SUMMARY:[LNF26] U04: Wie verändert das Schmelzen der alpinen Gletscher Kärnten?
DESCRIPTION:Haben wir noch Trinkwasser, wenn die Gletscher geschmolzen sind? Halten die Hänge in den Bergen? Hier beschäftigen wir uns mit Klimawandel, planetaren Grenzen, dem Schmelzen der Gletscher \nund den Auswirkungen auf Kärnten. Dich erwarten an dieser Station interaktive Spiele – vom Klima-Tabu \nüber das Sortieren von Rohstoffen, von der Erkundung der Gletscher mit VR-Brille bis zum Zuordnen von CO2-Säcken.
LOCATION:Universitätsstraße 65-67, 9020 Klagenfurt
GEO:46.61631826;14.26516771
END:VEVENT
END:VCALENDAR