BEGIN:VCALENDAR
VERSION:2.0
PRODID:-//ERT//LNF26//DE
VERSION:2.0
BEGIN:VEVENT
UID:station_7419_20260324T160000Z
DTSTAMP:20260420T072000Z
URL:https://ert.langenachtderforschung.at/station/7419
DTSTART:20260324T160000Z
DTEND:20260424T210000Z
SUMMARY:[LNF26] E03: 3D-Druck zum Anfassen – von Sauriern bis Musik
DESCRIPTION:Entdecke, wie 3D-Druck Forschung, Medizin und Musik verbindet! Sieh live, wie Modelle Schicht für Schicht entstehen, berühre Saurierknochen und Prothesen, und erlebe, wie Sensorik neue Musikinstrumente möglich macht. Eine spannende Welt, die du anfassen, ausprobieren und hautnah erleben kannst!
LOCATION:Lakeside B11, 9020 Klagenfurt
GEO:46.61423291;14.26646054
END:VEVENT
END:VCALENDAR