BEGIN:VCALENDAR
VERSION:2.0
PRODID:-//ERT//LNF26//DE
VERSION:2.0
BEGIN:VEVENT
UID:station_7420_20260324T160000Z
DTSTAMP:20260420T054000Z
URL:https://ert.langenachtderforschung.at/station/7420
DTSTART:20260324T160000Z
DTEND:20260424T210000Z
SUMMARY:[LNF26] U05: Was kannst du aus deinem &#34;sozialen Atom&#34; lernen?
DESCRIPTION:Zeichne bei uns dein „soziales Atom“, bestehend aus allen Beziehungen, die dir wichtig sind, auf. Du stehst in der Mitte des Atoms, rundherum ordnest du an, wem du emotional nahe stehst. So wird für dich – und für uns Forschenden – sichtbar, welchen Stellenwert Beziehungen in deinem Leben einnehmen. Lerne mit uns gemeinsam mehr über dein „Soziales Atom“!
LOCATION:Universitätsstraße 65-67, 9020 Klagenfurt
GEO:46.61631826;14.26516771
END:VEVENT
END:VCALENDAR