BEGIN:VCALENDAR
VERSION:2.0
PRODID:-//ERT//LNF26//DE
VERSION:2.0
BEGIN:VEVENT
UID:station_7421_20260324T160000Z
DTSTAMP:20260420T071400Z
URL:https://ert.langenachtderforschung.at/station/7421
DTSTART:20260324T160000Z
DTEND:20260424T210000Z
SUMMARY:[LNF26] E04: Wie prägen Geschlechterrollen unseren Alltag – und wie können wir sie hinterfragen und aufbrechen?
DESCRIPTION:Was bedeutet Geschlecht eigentlich – und wie wirken Geschlechterrollen im Alltag, bei der Berufswahl oder in unseren Talenten? Gemeinsam entdecken wir spielerisch, wo Klischees uns begegnen, reflektieren ihre Auswirkungen und schlüpfen in verschiedene Rollen, um neue Perspektiven zu erleben.
LOCATION:Lakeside B11, 9020 Klagenfurt
GEO:46.61423291;14.26646054
END:VEVENT
END:VCALENDAR