BEGIN:VCALENDAR
VERSION:2.0
PRODID:-//ERT//LNF26//DE
VERSION:2.0
BEGIN:VEVENT
UID:station_7422_20260324T160000Z
DTSTAMP:20260420T072200Z
URL:https://ert.langenachtderforschung.at/station/7422
DTSTART:20260324T160000Z
DTEND:20260424T210000Z
SUMMARY:[LNF26] E05: Leben im Weltraum – wir bauen eine Unterkunft im All
DESCRIPTION:Entdecke, wie man im Weltraum leben kann – auf dem Mond, dem Mars oder einem Asteroiden. Baue mit Klemmbausteinen deine eigene Unterkunft im All und finde heraus, wie Energie, Wasser und Materialien vor Ort genutzt und wiedergewonnen werden. Auf einem Monitor begleiten dich dabei spannende Ideen aus Forschung und Raumfahrttechnik.
LOCATION:Lakeside B11, 9020 Klagenfurt
GEO:46.61423291;14.26646054
END:VEVENT
END:VCALENDAR