BEGIN:VCALENDAR
VERSION:2.0
PRODID:-//ERT//LNF26//DE
VERSION:2.0
BEGIN:VEVENT
UID:station_7423_20260324T160000Z
DTSTAMP:20260420T072100Z
URL:https://ert.langenachtderforschung.at/station/7423
DTSTART:20260324T160000Z
DTEND:20260424T210000Z
SUMMARY:[LNF26] U06: Stimmt das? &#34;Alltägliche&#34; Rechtsfragen kurz erklärt!
DESCRIPTION:Hier bekommst du Einblick in „alltägliche“ Rechtsfragen – und wie Rechtswissenschaftler:innen Antworten darauf finden. Wähle aus Kurzvideos von Rechtswissenschaftler:innen die Themen aus, die dich am meisten interessieren und tausche dich mit den Jus-Expert:innen direkt vor Ort aus. Dein Wissen kannst du dann in einem kleinen Quiz testen.
LOCATION:Universitätsstraße 65-67, 9020 Klagenfurt
GEO:46.61631826;14.26516771
END:VEVENT
END:VCALENDAR