BEGIN:VCALENDAR
VERSION:2.0
PRODID:-//ERT//LNF26//DE
VERSION:2.0
BEGIN:VEVENT
UID:station_7424_20260324T160000Z
DTSTAMP:20260420T054100Z
URL:https://ert.langenachtderforschung.at/station/7424
DTSTART:20260324T160000Z
DTEND:20260424T210000Z
SUMMARY:[LNF26] E07: Werde Forscher:in im Escape Game!
DESCRIPTION:Stürze dich in spannende Rätsel und Experimente! Bei unseren Escape Games für den Sachunterricht kannst du Hinweise suchen, Aufgaben lösen und Geheimnisse entdecken – genau wie echte Forscher:innen. Neugier, Mitmachen und Entdecken stehen im Vordergrund, und Forschen macht hier richtig Spaß!
LOCATION:Lakeside B11, 9020 Klagenfurt
GEO:46.61423291;14.26646054
END:VEVENT
END:VCALENDAR