BEGIN:VCALENDAR
VERSION:2.0
PRODID:-//ERT//LNF26//DE
VERSION:2.0
BEGIN:VEVENT
UID:station_7425_20260324T160000Z
DTSTAMP:20260420T071900Z
URL:https://ert.langenachtderforschung.at/station/7425
DTSTART:20260324T160000Z
DTEND:20260424T210000Z
SUMMARY:[LNF26] K02: Ist steinreich – reich an Steinen?
DESCRIPTION:Habt ihr euch schon immer gefragt, was es heißt „steinreich“ zu sein? Wenn ihr ein Reich an Steinen erleben wollt, in dem man Steine schleifen, bearbeiten, bemalen, schätzen, bestimmen und stapeln kann – dann kommt zu uns in den Montessorikindergarten „Bunte Knöpfe“. Wir machen euch „steinreich“!
LOCATION:Lakeside B11, 9020 Klagenfurt
GEO:46.61423291;14.26646054
END:VEVENT
END:VCALENDAR