BEGIN:VCALENDAR
VERSION:2.0
PRODID:-//ERT//LNF26//DE
VERSION:2.0
BEGIN:VEVENT
UID:station_7426_20260324T160000Z
DTSTAMP:20260420T072000Z
URL:https://ert.langenachtderforschung.at/station/7426
DTSTART:20260324T160000Z
DTEND:20260424T210000Z
SUMMARY:[LNF26] U07: Wer gewinnt die Million? Neuromythen auf der Spur
DESCRIPTION:Angelehnt an erfolgreiche Wissenshows im Fernsehen laden wir zu jeder halben Stunde zu einem interaktiven Quiz-Spiel, bei dem du deine Vorstellungen und dein Wissen über das menschliche Gehirn und darüber, wie Lernen funktioniert, abfragen kannst. Die Gewinner:innen des Quiz erhalten eine Urkunde und den Preis vor Ort in Schokomünzen ausgezahlt.
LOCATION:Universitätsstraße 65-67, 9020 Klagenfurt
GEO:46.61631826;14.26516771
END:VEVENT
END:VCALENDAR