BEGIN:VCALENDAR
VERSION:2.0
PRODID:-//ERT//LNF26//DE
VERSION:2.0
BEGIN:VEVENT
UID:station_7427_20260324T160000Z
DTSTAMP:20260420T054200Z
URL:https://ert.langenachtderforschung.at/station/7427
DTSTART:20260324T160000Z
DTEND:20260424T210000Z
SUMMARY:[LNF26] K03: Das Wunder Wasser!
DESCRIPTION:Alle kennen es und alle brauchen es. Doch Wasser kann noch viel mehr, als nur unseren Durst zu stillen. Bei uns können Kinder im Alter von 1 bis 6 Jahren die Vielfalt des Elements Wasser entdecken und erleben. Es ist zwar farb-, geruch- und geschmacklos, aber ein wahres Multitalent. Gemeinsam finden wir heraus, was man mit Wasser alles machen kann: Was schwimmt und was sinkt? Magische Bilder entdecken und gestalten!
LOCATION:Lakeside B11, 9020 Klagenfurt
GEO:46.61423291;14.26646054
END:VEVENT
END:VCALENDAR