BEGIN:VCALENDAR
VERSION:2.0
PRODID:-//ERT//LNF26//DE
VERSION:2.0
BEGIN:VEVENT
UID:station_7428_20260324T160000Z
DTSTAMP:20260420T054100Z
URL:https://ert.langenachtderforschung.at/station/7428
DTSTART:20260324T160000Z
DTEND:20260424T210000Z
SUMMARY:[LNF26] U08: Steh&#39; auf für deine Gesundheit(skompetenz)!
DESCRIPTION:Sitzen ist das neue Rauchen! Ist dir bewusst, dass du rund 25 Jahre deines Lebens auf deinem Allerwertesten verbringst? Hast du auch gewusst, dass dieses viele Sitzen enorme negative Auswirkungen auf deine körperliche und mentale Gesundheit hat? An unserer Station findest du wissenschaftlich fundierte Informationen zum Thema. Wir wenden einfache Tricks mit großer Wirkung zur Stärkung deiner Gesundheitskompetenz an.
LOCATION:Universitätsstraße 65-67, 9020 Klagenfurt
GEO:46.61631826;14.26516771
END:VEVENT
END:VCALENDAR