BEGIN:VCALENDAR
VERSION:2.0
PRODID:-//ERT//LNF26//DE
VERSION:2.0
BEGIN:VEVENT
UID:station_7429_20260324T160000Z
DTSTAMP:20260420T071600Z
URL:https://ert.langenachtderforschung.at/station/7429
DTSTART:20260324T160000Z
DTEND:20260424T210000Z
SUMMARY:[LNF26] KU: Oscar Cueto – Entwurf für kein Museum
DESCRIPTION:Wie hinterfragt ein „nomadisches Anti-Museum“ traditionelle Institutionen des Kunstbetriebs und entwickelt alternative Formen kultureller Repräsentation im Kontext globaler Migration?
LOCATION:Lakeside B11, 9020 Klagenfurt
GEO:46.61423291;14.26646054
END:VEVENT
END:VCALENDAR