BEGIN:VCALENDAR
VERSION:2.0
PRODID:-//ERT//LNF26//DE
VERSION:2.0
BEGIN:VEVENT
UID:station_7430_20260324T160000Z
DTSTAMP:20260420T054000Z
URL:https://ert.langenachtderforschung.at/station/7430
DTSTART:20260324T160000Z
DTEND:20260424T210000Z
SUMMARY:[LNF26] U09: „Frisch gestrichen“: korrigieren,  tilgen, löschen, überschreiben,  durchstreichen, ersetzen auf  Schriftsteller:innenmanuskripten
DESCRIPTION:Hier siehst du auf einem Manuskriptblatt einer berühmten Autorin Korrekturen. Was war da falsch, was \nhat sich verbessert? Du kannst dich in die Forschungsarbeit des Kärntner Literaturarchivs einbringen, indem du deine Beobachtungen mit einer Schreibmaschine auf eine Karteikarte tippst und diese bei uns lässt.
LOCATION:Universitätsstraße 65-67, 9020 Klagenfurt
GEO:46.61631826;14.26516771
END:VEVENT
END:VCALENDAR