BEGIN:VCALENDAR
VERSION:2.0
PRODID:-//ERT//LNF26//DE
VERSION:2.0
BEGIN:VEVENT
UID:station_7431_20260324T160000Z
DTSTAMP:20260420T054100Z
URL:https://ert.langenachtderforschung.at/station/7431
DTSTART:20260324T160000Z
DTEND:20260424T210000Z
SUMMARY:[LNF26] L01: Wie Aktuatoren für Komfort und Effizienz in unseren Autos sorgen
DESCRIPTION:Entdecke, wie Aktuatoren mit leisen Kunststoffzahnrädern, kompakten Elektromotoren und intelligenter Elektronik in Außenspiegeln, Klimaanlagen und Kühlerjalousien funktionieren!
LOCATION:Lakeside B11, 9020 Klagenfurt
GEO:46.61423291;14.26646054
END:VEVENT
END:VCALENDAR