BEGIN:VCALENDAR
VERSION:2.0
PRODID:-//ERT//LNF26//DE
VERSION:2.0
BEGIN:VEVENT
UID:station_7432_20260324T160000Z
DTSTAMP:20260420T053800Z
URL:https://ert.langenachtderforschung.at/station/7432
DTSTART:20260324T160000Z
DTEND:20260424T210000Z
SUMMARY:[LNF26] U10: Wo kommen unsere Sprichwörter und Redewendungen her?
DESCRIPTION:Warum tragen wir keine Eulen nach Athen? Wo kommt „den Nagel auf dem Kopf treffen“ her? Und was ist eigentlich ein Kerbholz? Bei dieser Station erfährst du so einiges über Sprichwörter und Redewendungen, \ndas du bestimmt noch nicht wusstest. Schau, dass du nicht auf den Holzweg kommst, dann geht dir bei dieser Station sicher ein Licht auf!
LOCATION:Universitätsstraße 65-67, 9020 Klagenfurt
GEO:46.61631826;14.26516771
END:VEVENT
END:VCALENDAR